BEGIN:VCALENDAR
VERSION:2.0
PRODID:icalendar-ruby
CALSCALE:GREGORIAN
METHOD:PUBLISH
BEGIN:VEVENT
DTSTAMP:20260424T093706Z
UID:1e24ce59-d9cb-4a34-9b3e-1d2af0568f8b
DTSTART;VALUE=DATE:20120311
DTEND;VALUE=DATE:20120311
DESCRIPTION:Okeeheelee BMX
LOCATION:8145 Forest Hill Blvd  West Palm Beach FL 33413 USA
SUMMARY:Standard Double
URL:/site/bmx_races/99960
END:VEVENT
END:VCALENDAR
