BEGIN:VCALENDAR
VERSION:2.0
PRODID:icalendar-ruby
CALSCALE:GREGORIAN
METHOD:PUBLISH
BEGIN:VEVENT
DTSTAMP:20260424T094253Z
UID:594a2296-3276-4e96-8472-c7faee7cb28e
DTSTART;VALUE=DATE:20120812
DTEND;VALUE=DATE:20120812
DESCRIPTION:Johnstown BMX
LOCATION:260 Playground Drive  Johnstown PA 15904 USA
SUMMARY:Standard Single
URL:/site/bmx_races/98061
END:VEVENT
END:VCALENDAR
