BEGIN:VCALENDAR
VERSION:2.0
PRODID:icalendar-ruby
CALSCALE:GREGORIAN
METHOD:PUBLISH
BEGIN:VEVENT
DTSTAMP:20260424T115556Z
UID:ebbb824b-1061-40cf-ba06-1183d6112980
DTSTART;VALUE=DATE:20120829
DTEND;VALUE=DATE:20120829
DESCRIPTION:Oak Creek BMX
LOCATION:648 Riverside Ave  Roseville CA 95678 USA
SUMMARY:Standard Single
URL:/site/bmx_races/97793
END:VEVENT
END:VCALENDAR
