BEGIN:VCALENDAR
VERSION:2.0
PRODID:icalendar-ruby
CALSCALE:GREGORIAN
METHOD:PUBLISH
BEGIN:VEVENT
DTSTAMP:20260424T072242Z
UID:a865da6d-dee2-420d-ad97-eb2f4ff537b8
DTSTART;VALUE=DATE:20120717
DTEND;VALUE=DATE:20120717
DESCRIPTION:Westmoreland BMX
LOCATION:200 Park Road  Apollo PA 15613 USA
SUMMARY:Standard Single
URL:/site/bmx_races/97152
END:VEVENT
END:VCALENDAR
