BEGIN:VCALENDAR
VERSION:2.0
PRODID:icalendar-ruby
CALSCALE:GREGORIAN
METHOD:PUBLISH
BEGIN:VEVENT
DTSTAMP:20260424T154546Z
UID:e12152ff-1b5a-4e17-b47f-7b512cf20c9a
DTSTART;VALUE=DATE:20120516
DTEND;VALUE=DATE:20120516
DESCRIPTION:Heartland BMX
LOCATION:4801 Sw Shunga Dr  Topeka KS 66614 USA
SUMMARY:Standard Single
URL:/site/bmx_races/96786
END:VEVENT
END:VCALENDAR
