BEGIN:VCALENDAR
VERSION:2.0
PRODID:icalendar-ruby
CALSCALE:GREGORIAN
METHOD:PUBLISH
BEGIN:VEVENT
DTSTAMP:20260426T035941Z
UID:c866463f-72bc-428e-9eda-7f054b9ff3c7
DTSTART;VALUE=DATE:20120122
DTEND;VALUE=DATE:20120122
DESCRIPTION:Cowtown BMX
LOCATION:447 Haltom Rd  Ft. Worth TX 76117 USA
SUMMARY:Standard Single
URL:/site/bmx_races/96238
END:VEVENT
END:VCALENDAR
