BEGIN:VCALENDAR
VERSION:2.0
PRODID:icalendar-ruby
CALSCALE:GREGORIAN
METHOD:PUBLISH
BEGIN:VEVENT
DTSTAMP:20260425T215256Z
UID:828e21d5-2e8e-4e81-ac0e-9f50b39f8d9d
DTSTART;VALUE=DATE:20121006
DTEND;VALUE=DATE:20121006
DESCRIPTION:TRI CITY BMX
LOCATION:3710 30th Ave  Kearney NE 68845 USA
SUMMARY:Standard Single
URL:/site/bmx_races/96062
END:VEVENT
END:VCALENDAR
