BEGIN:VCALENDAR
VERSION:2.0
PRODID:icalendar-ruby
CALSCALE:GREGORIAN
METHOD:PUBLISH
BEGIN:VEVENT
DTSTAMP:20260424T125328Z
UID:c7a5c03b-677a-4c5c-a209-970939818150
DTSTART;VALUE=DATE:20120211
DTEND;VALUE=DATE:20120211
DESCRIPTION:Peninsula Indoor BMX
LOCATION:5867 Dogwood Road Se  Port Orchard WA 98367 USA
SUMMARY:Standard Single
URL:/site/bmx_races/95892
END:VEVENT
END:VCALENDAR
