BEGIN:VCALENDAR
VERSION:2.0
PRODID:icalendar-ruby
CALSCALE:GREGORIAN
METHOD:PUBLISH
BEGIN:VEVENT
DTSTAMP:20260426T011245Z
UID:d6b9a68b-5c36-4762-8410-aeb6d43fe13f
DTSTART;VALUE=DATE:20120929
DTEND;VALUE=DATE:20120929
DESCRIPTION:Twin Silo BMX
LOCATION:5400 Ziegler Rd.   Ft Collins CO 80528 USA
SUMMARY:Standard Single
URL:/site/bmx_races/95243
END:VEVENT
END:VCALENDAR
