BEGIN:VCALENDAR
VERSION:2.0
PRODID:icalendar-ruby
CALSCALE:GREGORIAN
METHOD:PUBLISH
BEGIN:VEVENT
DTSTAMP:20260425T223816Z
UID:1ef66ec7-63d3-4c25-a963-1e0681e38eea
DTSTART;VALUE=DATE:20120512
DTEND;VALUE=DATE:20120512
DESCRIPTION:Deseret Peak BMX 
LOCATION:2930 West Hwy 112  Tooele UT 84074 USA
SUMMARY:Standard Single
URL:/site/bmx_races/94354
END:VEVENT
END:VCALENDAR
