BEGIN:VCALENDAR
VERSION:2.0
PRODID:icalendar-ruby
CALSCALE:GREGORIAN
METHOD:PUBLISH
BEGIN:VEVENT
DTSTAMP:20260424T184606Z
UID:af5b2551-64b1-4b8f-a423-4b12fa198d34
DTSTART;VALUE=DATE:20120709
DTEND;VALUE=DATE:20120709
DESCRIPTION:Cortez BMX
LOCATION:1425 E Empire St.  Cortez CO 81321 USA
SUMMARY:Standard Single
URL:/site/bmx_races/91921
END:VEVENT
END:VCALENDAR
