BEGIN:VCALENDAR
VERSION:2.0
PRODID:icalendar-ruby
CALSCALE:GREGORIAN
METHOD:PUBLISH
BEGIN:VEVENT
DTSTAMP:20260425T214157Z
UID:ae2e0d74-5252-4703-bcea-31344324384e
DTSTART;VALUE=DATE:20120128
DTEND;VALUE=DATE:20120128
DESCRIPTION:North Bay BMX
LOCATION:3291 Streblow Dr  Napa CA 94558 USA
SUMMARY:Standard Single
URL:/site/bmx_races/91698
END:VEVENT
END:VCALENDAR
