BEGIN:VCALENDAR
VERSION:2.0
PRODID:icalendar-ruby
CALSCALE:GREGORIAN
METHOD:PUBLISH
BEGIN:VEVENT
DTSTAMP:20260425T231629Z
UID:cc6a09c5-facc-40e5-9c82-10ed4a89f1a7
DTSTART;VALUE=DATE:20120508
DTEND;VALUE=DATE:20120508
DESCRIPTION:The Hill BMX
LOCATION:709 Sports Way  Elgin IL 60123 USA
SUMMARY:Standard Single
URL:/site/bmx_races/91635
END:VEVENT
END:VCALENDAR
