BEGIN:VCALENDAR
VERSION:2.0
PRODID:icalendar-ruby
CALSCALE:GREGORIAN
METHOD:PUBLISH
BEGIN:VEVENT
DTSTAMP:20260425T035228Z
UID:5521b183-7b6b-4673-aa34-3690e0f15ebd
DTSTART;VALUE=DATE:20120609
DTEND;VALUE=DATE:20120609
DESCRIPTION:Sandy Ridge BMX
LOCATION:1200 Keys Ferry Rd  McDonough GA 30253 USA
SUMMARY:Standard Single
URL:/site/bmx_races/91048
END:VEVENT
END:VCALENDAR
