BEGIN:VCALENDAR
VERSION:2.0
PRODID:icalendar-ruby
CALSCALE:GREGORIAN
METHOD:PUBLISH
BEGIN:VEVENT
DTSTAMP:20260424T234133Z
UID:684fb527-ecee-4a80-9103-e25b95cc681c
DTSTART;VALUE=DATE:20140418
DTEND;VALUE=DATE:20140418
DESCRIPTION:Bonzai BMX
LOCATION:7201 Arlene Laman Dr  N. Little Rock AR 72118 USA
SUMMARY:Standard Single
URL:/site/bmx_races/88866
END:VEVENT
END:VCALENDAR
