BEGIN:VCALENDAR
VERSION:2.0
PRODID:icalendar-ruby
CALSCALE:GREGORIAN
METHOD:PUBLISH
BEGIN:VEVENT
DTSTAMP:20260425T004215Z
UID:cadbe05e-4d8f-4dff-b512-1e923bda022e
DTSTART;VALUE=DATE:20140215
DTEND;VALUE=DATE:20140215
DESCRIPTION:Miami South BMX
LOCATION:13050 Sw 216th Street  Miami FL 33170 USA
SUMMARY:Standard Single
URL:/site/bmx_races/88714
END:VEVENT
END:VCALENDAR
