BEGIN:VCALENDAR
VERSION:2.0
PRODID:icalendar-ruby
CALSCALE:GREGORIAN
METHOD:PUBLISH
BEGIN:VEVENT
DTSTAMP:20260425T131137Z
UID:b8241d7a-2a9c-4855-98d8-554d761db68b
DTSTART;VALUE=DATE:20140403
DTEND;VALUE=DATE:20140403
DESCRIPTION:Oldsmar BMX Supercross
LOCATION:Oldsmar Sports Complex 3120 Tampa Road Oldsmar FL 34677 USA
SUMMARY:Standard Single
URL:/site/bmx_races/88412
END:VEVENT
END:VCALENDAR
