BEGIN:VCALENDAR
VERSION:2.0
PRODID:icalendar-ruby
CALSCALE:GREGORIAN
METHOD:PUBLISH
BEGIN:VEVENT
DTSTAMP:20260424T215350Z
UID:b51f281a-63b9-4e9b-bd1c-9c2b52c6c7d3
DTSTART;VALUE=DATE:20140919
DTEND;VALUE=DATE:20140919
DESCRIPTION:Rad Canyon BMX
LOCATION:5200 W 9800 S  West Jordan UT 84081 USA
SUMMARY:State Pre-Race Double
URL:/site/bmx_races/87996
END:VEVENT
END:VCALENDAR
