BEGIN:VCALENDAR
VERSION:2.0
PRODID:icalendar-ruby
CALSCALE:GREGORIAN
METHOD:PUBLISH
BEGIN:VEVENT
DTSTAMP:20260425T035241Z
UID:eb7bc145-a96e-4ecb-b4b1-8f282f0266aa
DTSTART;VALUE=DATE:20140822
DTEND;VALUE=DATE:20140822
DESCRIPTION:Okeeheelee BMX
LOCATION:8145 Forest Hill Blvd  West Palm Beach FL 33413 USA
SUMMARY:Local Race Single
URL:/site/bmx_races/87964
END:VEVENT
END:VCALENDAR
