BEGIN:VCALENDAR
VERSION:2.0
PRODID:icalendar-ruby
CALSCALE:GREGORIAN
METHOD:PUBLISH
BEGIN:VEVENT
DTSTAMP:20260425T025638Z
UID:4802c0fc-21c6-4774-9cfa-bf73e9c1d29e
DTSTART;VALUE=DATE:20140724
DTEND;VALUE=DATE:20140724
DESCRIPTION:Milton BMX - Track 2000 
LOCATION:Drumquin Park   Britania Road Milton ON L9T 7G6 CAN
SUMMARY:Local Race Single
URL:/site/bmx_races/87749
END:VEVENT
END:VCALENDAR
