BEGIN:VCALENDAR
VERSION:2.0
PRODID:icalendar-ruby
CALSCALE:GREGORIAN
METHOD:PUBLISH
BEGIN:VEVENT
DTSTAMP:20260426T015758Z
UID:020df7e1-773f-4277-8b8e-d71d6d2a4d07
DTSTART;VALUE=DATE:20140717
DTEND;VALUE=DATE:20140717
DESCRIPTION:Snake River BMX
LOCATION:1860 East 65th South  Idaho Falls ID 83404 USA
SUMMARY:Local Race Single
URL:/site/bmx_races/87644
END:VEVENT
END:VCALENDAR
