BEGIN:VCALENDAR
VERSION:2.0
PRODID:icalendar-ruby
CALSCALE:GREGORIAN
METHOD:PUBLISH
BEGIN:VEVENT
DTSTAMP:20260425T114152Z
UID:3473011c-612d-4dc5-885c-41f72b70d407
DTSTART;VALUE=DATE:20140424
DTEND;VALUE=DATE:20140424
DESCRIPTION:South Park BMX
LOCATION:800 East Park Drive  Bethel Park PA 15102 USA
SUMMARY:Local Race Single
URL:/site/bmx_races/86769
END:VEVENT
END:VCALENDAR
