BEGIN:VCALENDAR
VERSION:2.0
PRODID:icalendar-ruby
CALSCALE:GREGORIAN
METHOD:PUBLISH
BEGIN:VEVENT
DTSTAMP:20260426T012855Z
UID:5d6b7f61-b655-4745-8b22-2b3988267cad
DTSTART;VALUE=DATE:20140430
DTEND;VALUE=DATE:20140430
DESCRIPTION:Interstate BMX
LOCATION:2600 Fairgrounds Blvd  Kingman AZ 86401 USA
SUMMARY:Local Race Single
URL:/site/bmx_races/86643
END:VEVENT
END:VCALENDAR
