BEGIN:VCALENDAR
VERSION:2.0
PRODID:icalendar-ruby
CALSCALE:GREGORIAN
METHOD:PUBLISH
BEGIN:VEVENT
DTSTAMP:20260424T133528Z
UID:f595c81d-0068-4415-a790-fe55e93afac8
DTSTART;VALUE=DATE:20140523
DTEND;VALUE=DATE:20140523
DESCRIPTION:Johnstown BMX
LOCATION:260 Playground Drive  Johnstown PA 15904 USA
SUMMARY:Race for Life Single
URL:/site/bmx_races/85306
END:VEVENT
END:VCALENDAR
