BEGIN:VCALENDAR
VERSION:2.0
PRODID:icalendar-ruby
CALSCALE:GREGORIAN
METHOD:PUBLISH
BEGIN:VEVENT
DTSTAMP:20260424T121203Z
UID:1adba744-0748-4a00-860b-54b0a3f9cdcb
DTSTART;VALUE=DATE:20141011
DTEND;VALUE=DATE:20141011
DESCRIPTION:Cherry Hill Park BMX
LOCATION:1727 N 15th St  Coeur D`Alene ID 83814 USA
SUMMARY:Local Race Single
URL:/site/bmx_races/85194
END:VEVENT
END:VCALENDAR
