BEGIN:VCALENDAR
VERSION:2.0
PRODID:icalendar-ruby
CALSCALE:GREGORIAN
METHOD:PUBLISH
BEGIN:VEVENT
DTSTAMP:20260424T233625Z
UID:385a53f1-fd53-4354-b68b-962098707a07
DTSTART;VALUE=DATE:20140928
DTEND;VALUE=DATE:20140928
DESCRIPTION:Lincoln Park BMX
LOCATION:South L St & W. Lauridsen Blvd  Port Angeles WA 98362 USA
SUMMARY:Local Race Single
URL:/site/bmx_races/85046
END:VEVENT
END:VCALENDAR
