BEGIN:VCALENDAR
VERSION:2.0
PRODID:icalendar-ruby
CALSCALE:GREGORIAN
METHOD:PUBLISH
BEGIN:VEVENT
DTSTAMP:20260424T203804Z
UID:e5931b46-19be-4c51-bebc-52dcaca3866b
DTSTART;VALUE=DATE:20140719
DTEND;VALUE=DATE:20140719
DESCRIPTION:Twin Silo BMX
LOCATION:5400 Ziegler Rd.   Ft Collins CO 80528 USA
SUMMARY:State Race Double
URL:/site/bmx_races/84677
END:VEVENT
END:VCALENDAR
