BEGIN:VCALENDAR
VERSION:2.0
PRODID:icalendar-ruby
CALSCALE:GREGORIAN
METHOD:PUBLISH
BEGIN:VEVENT
DTSTAMP:20260425T141957Z
UID:bf6d8397-d5f7-4e1c-9c14-aac96cdb19ef
DTSTART;VALUE=DATE:20140503
DTEND;VALUE=DATE:20140503
DESCRIPTION:Black Mountain BMX
LOCATION:24024 N 11th St  Phoenix AZ 85024 USA
SUMMARY:Local Race Single
URL:/site/bmx_races/83278
END:VEVENT
END:VCALENDAR
