BEGIN:VCALENDAR
VERSION:2.0
PRODID:icalendar-ruby
CALSCALE:GREGORIAN
METHOD:PUBLISH
BEGIN:VEVENT
DTSTAMP:20260424T093647Z
UID:bbb5e5a4-26c9-481b-a4d9-1610800f0f5e
DTSTART;VALUE=DATE:20140829
DTEND;VALUE=DATE:20140829
DESCRIPTION:Orange Y BMX
LOCATION:2241 E Palmyra Ave  Orange CA 92869 USA
SUMMARY:Local Race Single
URL:/site/bmx_races/82665
END:VEVENT
END:VCALENDAR
