BEGIN:VCALENDAR
VERSION:2.0
PRODID:icalendar-ruby
CALSCALE:GREGORIAN
METHOD:PUBLISH
BEGIN:VEVENT
DTSTAMP:20260424T233648Z
UID:338f018f-c024-4ade-95db-11793efd253a
DTSTART;VALUE=DATE:20140625
DTEND;VALUE=DATE:20140625
DESCRIPTION:Orange Y BMX
LOCATION:2241 E Palmyra Ave  Orange CA 92869 USA
SUMMARY:Local Race Single
URL:/site/bmx_races/82599
END:VEVENT
END:VCALENDAR
