BEGIN:VCALENDAR
VERSION:2.0
PRODID:icalendar-ruby
CALSCALE:GREGORIAN
METHOD:PUBLISH
BEGIN:VEVENT
DTSTAMP:20260424T172953Z
UID:cb5275ee-f495-4ed7-948b-1e61614d4470
DTSTART;VALUE=DATE:20140601
DTEND;VALUE=DATE:20140601
DESCRIPTION:Woodward Park BMX
LOCATION:7775 N Friant Rd  Fresno CA 93720 USA
SUMMARY:State Race Double
URL:/site/bmx_races/82506
END:VEVENT
END:VCALENDAR
