BEGIN:VCALENDAR
VERSION:2.0
PRODID:icalendar-ruby
CALSCALE:GREGORIAN
METHOD:PUBLISH
BEGIN:VEVENT
DTSTAMP:20260425T155421Z
UID:8b99bd45-45fe-4812-87b4-f2999b567e04
DTSTART;VALUE=DATE:20140629
DTEND;VALUE=DATE:20140629
DESCRIPTION:Central Jersey BMX
LOCATION:2449 U.S. 9  Howell NJ 7731 USA
SUMMARY:Olympic Day Single
URL:/site/bmx_races/81984
END:VEVENT
END:VCALENDAR
