BEGIN:VCALENDAR
VERSION:2.0
PRODID:icalendar-ruby
CALSCALE:GREGORIAN
METHOD:PUBLISH
BEGIN:VEVENT
DTSTAMP:20260425T021528Z
UID:615e2ec8-fb7d-49fb-b14f-3a2595bf3e96
DTSTART;VALUE=DATE:20140622
DTEND;VALUE=DATE:20140622
DESCRIPTION:Central Jersey BMX
LOCATION:2449 U.S. 9  Howell NJ 7731 USA
SUMMARY:State Race Double
URL:/site/bmx_races/81983
END:VEVENT
END:VCALENDAR
