BEGIN:VCALENDAR
VERSION:2.0
PRODID:icalendar-ruby
CALSCALE:GREGORIAN
METHOD:PUBLISH
BEGIN:VEVENT
DTSTAMP:20260425T035243Z
UID:d38fc339-ff15-4634-bace-6a33d364a5a7
DTSTART;VALUE=DATE:20140920
DTEND;VALUE=DATE:20140920
DESCRIPTION:Chesapeake BMX
LOCATION:726 Donaldson Avenue  Severn MD 21144 USA
SUMMARY:State Pre-Race Double
URL:/site/bmx_races/81561
END:VEVENT
END:VCALENDAR
