BEGIN:VCALENDAR
VERSION:2.0
PRODID:icalendar-ruby
CALSCALE:GREGORIAN
METHOD:PUBLISH
BEGIN:VEVENT
DTSTAMP:20260424T172954Z
UID:a176cbe2-1268-45eb-9b25-76877062f7a3
DTSTART;VALUE=DATE:20140921
DTEND;VALUE=DATE:20140921
DESCRIPTION:Lexington BMX
LOCATION:1159 Nazareth Road  Lexington SC 29073 USA
SUMMARY:State Final Triple
URL:/site/bmx_races/81228
END:VEVENT
END:VCALENDAR
