BEGIN:VCALENDAR
VERSION:2.0
PRODID:icalendar-ruby
CALSCALE:GREGORIAN
METHOD:PUBLISH
BEGIN:VEVENT
DTSTAMP:20260424T215254Z
UID:77d08d17-f02d-439d-af41-16a079cc32e4
DTSTART;VALUE=DATE:20141207
DTEND;VALUE=DATE:20141207
DESCRIPTION:Santa Maria BMX
LOCATION:4040 Highway 101  Santa Maria CA 93455 USA
SUMMARY:Earned Double
URL:/site/bmx_races/80850
END:VEVENT
END:VCALENDAR
