BEGIN:VCALENDAR
VERSION:2.0
PRODID:icalendar-ruby
CALSCALE:GREGORIAN
METHOD:PUBLISH
BEGIN:VEVENT
DTSTAMP:20260424T093646Z
UID:a5636223-0f1e-4de7-87fc-8c04dc37145d
DTSTART;VALUE=DATE:20140727
DTEND;VALUE=DATE:20140727
DESCRIPTION:Redwood Empire BMX
LOCATION:201 Vance Ave  Samoa CA 95564 USA
SUMMARY:Local Race Single
URL:/site/bmx_races/80250
END:VEVENT
END:VCALENDAR
