BEGIN:VCALENDAR
VERSION:2.0
PRODID:icalendar-ruby
CALSCALE:GREGORIAN
METHOD:PUBLISH
BEGIN:VEVENT
DTSTAMP:20260424T230058Z
UID:767b94ef-c6cd-4d76-9337-53289de009f6
DTSTART;VALUE=DATE:20140622
DTEND;VALUE=DATE:20140622
DESCRIPTION:Tampa BMX Raceway\, Inc.
LOCATION:17302 Dale Mabry Hwy North  Lutz FL 33548 USA
SUMMARY:Local Race Single
URL:/site/bmx_races/79119
END:VEVENT
END:VCALENDAR
