BEGIN:VCALENDAR
VERSION:2.0
PRODID:icalendar-ruby
CALSCALE:GREGORIAN
METHOD:PUBLISH
BEGIN:VEVENT
DTSTAMP:20260426T035940Z
UID:7d75963d-c7f2-4cb1-a9dd-63f275b0d400
DTSTART;VALUE=DATE:20140907
DTEND;VALUE=DATE:20140907
DESCRIPTION:Langley BMX
LOCATION:4375 206 St Langley  Langley BC V3A 3B1 CAN
SUMMARY:Warnicke Single
URL:/site/bmx_races/79025
END:VEVENT
END:VCALENDAR
