BEGIN:VCALENDAR
VERSION:2.0
PRODID:icalendar-ruby
CALSCALE:GREGORIAN
METHOD:PUBLISH
BEGIN:VEVENT
DTSTAMP:20260425T220950Z
UID:e9f38b4e-74e0-4090-8d9e-8b55300e4d0e
DTSTART;VALUE=DATE:20140714
DTEND;VALUE=DATE:20140714
DESCRIPTION:Cortez BMX
LOCATION:1425 E Empire St.  Cortez CO 81321 USA
SUMMARY:Local Race Single
URL:/site/bmx_races/78954
END:VEVENT
END:VCALENDAR
