BEGIN:VCALENDAR
VERSION:2.0
PRODID:icalendar-ruby
CALSCALE:GREGORIAN
METHOD:PUBLISH
BEGIN:VEVENT
DTSTAMP:20260425T003909Z
UID:e48b95a4-e325-42a1-995a-50f2aef8143b
DTSTART;VALUE=DATE:20140913
DTEND;VALUE=DATE:20140913
DESCRIPTION:Rockford BMX
LOCATION:4950 Safford Rd  Rockford IL 61101 USA
SUMMARY:Warnicke Double
URL:/site/bmx_races/78063
END:VEVENT
END:VCALENDAR
