BEGIN:VCALENDAR
VERSION:2.0
PRODID:icalendar-ruby
CALSCALE:GREGORIAN
METHOD:PUBLISH
BEGIN:VEVENT
DTSTAMP:20260424T184624Z
UID:29af16ec-12f4-48a8-a52f-ad72abbf12b1
DTSTART;VALUE=DATE:20140816
DTEND;VALUE=DATE:20140816
DESCRIPTION:Whittier Narrows BMX
LOCATION:1601 N Rosemead Blvd  South El Monte CA 91733 USA
SUMMARY:Local Race Single
URL:/site/bmx_races/77990
END:VEVENT
END:VCALENDAR
