BEGIN:VCALENDAR
VERSION:2.0
PRODID:icalendar-ruby
CALSCALE:GREGORIAN
METHOD:PUBLISH
BEGIN:VEVENT
DTSTAMP:20260424T215307Z
UID:4619e691-6a74-45f4-8ac5-925bd7647318
DTSTART;VALUE=DATE:20140914
DTEND;VALUE=DATE:20140914
DESCRIPTION:Emery Park BMX
LOCATION:2339 E Mac Arthur Rd  Wichita KS 67216 USA
SUMMARY:State Final Triple
URL:/site/bmx_races/77657
END:VEVENT
END:VCALENDAR
