BEGIN:VCALENDAR
VERSION:2.0
PRODID:icalendar-ruby
CALSCALE:GREGORIAN
METHOD:PUBLISH
BEGIN:VEVENT
DTSTAMP:20260425T113045Z
UID:f024c7cf-f05b-4789-a019-f687e9a0b270
DTSTART;VALUE=DATE:20140823
DTEND;VALUE=DATE:20140823
DESCRIPTION:Winnebagoland BMX
LOCATION:4650 Jackson Street  Oshkosh WI 54901 USA
SUMMARY:State Pre-Race Double
URL:/site/bmx_races/77650
END:VEVENT
END:VCALENDAR
