BEGIN:VCALENDAR
VERSION:2.0
PRODID:icalendar-ruby
CALSCALE:GREGORIAN
METHOD:PUBLISH
BEGIN:VEVENT
DTSTAMP:20260425T021606Z
UID:78c8d893-0c88-499d-a5a2-8cb4486bd762
DTSTART;VALUE=DATE:20140208
DTEND;VALUE=DATE:20140208
DESCRIPTION:Southwest Wyoming Indoor BMX
LOCATION:3320 Yellowstone Road  Rock Springs WY 82901 USA
SUMMARY:Race for Life Double
URL:/site/bmx_races/77559
END:VEVENT
END:VCALENDAR
