BEGIN:VCALENDAR
VERSION:2.0
PRODID:icalendar-ruby
CALSCALE:GREGORIAN
METHOD:PUBLISH
BEGIN:VEVENT
DTSTAMP:20260425T184711Z
UID:e59ef87a-c967-491b-ae87-c035f8b73dcb
DTSTART;VALUE=DATE:20141025
DTEND;VALUE=DATE:20141025
DESCRIPTION:West Texas BMX
LOCATION:2101 E Cuthbert  Midland TX 79706 USA
SUMMARY:Local Race Single
URL:/site/bmx_races/77329
END:VEVENT
END:VCALENDAR
