BEGIN:VCALENDAR
VERSION:2.0
PRODID:icalendar-ruby
CALSCALE:GREGORIAN
METHOD:PUBLISH
BEGIN:VEVENT
DTSTAMP:20260424T072241Z
UID:033a8394-e3ce-429e-ba9c-69e5a4c5eeb7
DTSTART;VALUE=DATE:20140624
DTEND;VALUE=DATE:20140624
DESCRIPTION:EHT BMX
LOCATION:Veterans Memorial Park Ocean Heights Ave Egg Harbor Township NJ 08
 234 USA
SUMMARY:Local Race Single
URL:/site/bmx_races/76208
END:VEVENT
END:VCALENDAR
