BEGIN:VCALENDAR
VERSION:2.0
PRODID:icalendar-ruby
CALSCALE:GREGORIAN
METHOD:PUBLISH
BEGIN:VEVENT
DTSTAMP:20260425T173923Z
UID:66ecab44-7292-479f-9d43-2f6d4faf99cc
DTSTART;VALUE=DATE:20141015
DTEND;VALUE=DATE:20141015
DESCRIPTION:Goodyear BMX Raceway
LOCATION:15660 W Roeser Rd  Goodyear AZ 85338 USA
SUMMARY:Local Race Single
URL:/site/bmx_races/75826
END:VEVENT
END:VCALENDAR
