BEGIN:VCALENDAR
VERSION:2.0
PRODID:icalendar-ruby
CALSCALE:GREGORIAN
METHOD:PUBLISH
BEGIN:VEVENT
DTSTAMP:20260425T173925Z
UID:b1e08c12-9e97-42ec-9bae-9f3590d524a3
DTSTART;VALUE=DATE:20140920
DTEND;VALUE=DATE:20140920
DESCRIPTION:Goodyear BMX Raceway
LOCATION:15660 W Roeser Rd  Goodyear AZ 85338 USA
SUMMARY:Local Race Single
URL:/site/bmx_races/75812
END:VEVENT
END:VCALENDAR
