BEGIN:VCALENDAR
VERSION:2.0
PRODID:icalendar-ruby
CALSCALE:GREGORIAN
METHOD:PUBLISH
BEGIN:VEVENT
DTSTAMP:20260424T131305Z
UID:1d0c6be4-1f5f-40e6-8480-680aaa21eb84
DTSTART;VALUE=DATE:20140912
DTEND;VALUE=DATE:20140912
DESCRIPTION:Tucson BMX
LOCATION:9245 E Irvington  Tucson AZ 85730 USA
SUMMARY:Earned Double
URL:/site/bmx_races/75339
END:VEVENT
END:VCALENDAR
